BEGIN:VCALENDAR
VERSION:2.0
PRODID:-//Plone.org//NONSGML plone.app.event//EN
X-WR-TIMEZONE:Europe/Berlin
BEGIN:VEVENT
SUMMARY:Reversible Deactivation Radical Polymerization − Current Status 
 and Future Directions
DTSTART;TZID=Europe/Berlin;VALUE=DATE-TIME:20250310T103000
DTSTAMP;VALUE=DATE-TIME:20260423T100656Z
UID:e35011c334444accac5968bd83f0e515@plone5.unife.it:8109
CATEGORIES:Scienze Chimiche
CREATED;VALUE=DATE-TIME:20250129T113421Z
LAST-MODIFIED;VALUE=DATE-TIME:20250129T113427Z
URL:https://iuss.unife.it/it/eventi-e-attivita/disciplinari/attivita/rever
 sible-deactivation-radical-polymerization-2212-current-status-and-future-d
 irections
END:VEVENT
BEGIN:VTIMEZONE
TZID:Europe/Berlin
X-LIC-LOCATION:Europe/Berlin
BEGIN:STANDARD
DTSTART;VALUE=DATE-TIME:20241027T020000
TZNAME:CET
TZOFFSETFROM:+0200
TZOFFSETTO:+0100
END:STANDARD
END:VTIMEZONE
END:VCALENDAR
