BEGIN:VCALENDAR
VERSION:2.0
PRODID:-//Plone.org//NONSGML plone.app.event//EN
X-WR-TIMEZONE:Europe/Berlin
BEGIN:VEVENT
SUMMARY:Numerical methods for option pricing
DTSTART;TZID=Europe/Berlin;VALUE=DATE-TIME:20241101T000000
DTEND;TZID=Europe/Berlin;VALUE=DATE-TIME:20250331T000000
DTSTAMP;VALUE=DATE-TIME:20260423T100517Z
UID:4a5849d602b340638ec2aff876f95d62@plone5.unife.it:8109
CATEGORIES:Matematica
CREATED;VALUE=DATE-TIME:20250128T090144Z
DESCRIPTION:3 CFU
LAST-MODIFIED;VALUE=DATE-TIME:20250131T105758Z
URL:https://iuss.unife.it/it/eventi-e-attivita/disciplinari/attivita/numer
 ical-methods-for-option-pricing-1
END:VEVENT
BEGIN:VTIMEZONE
TZID:Europe/Berlin
X-LIC-LOCATION:Europe/Berlin
BEGIN:STANDARD
DTSTART;VALUE=DATE-TIME:20241027T020000
TZNAME:CET
TZOFFSETFROM:+0200
TZOFFSETTO:+0100
END:STANDARD
BEGIN:DAYLIGHT
DTSTART;VALUE=DATE-TIME:20250330T030000
TZNAME:CEST
TZOFFSETFROM:+0100
TZOFFSETTO:+0200
END:DAYLIGHT
END:VTIMEZONE
END:VCALENDAR
