BEGIN:VCALENDAR
VERSION:2.0
PRODID:-//Plone.org//NONSGML plone.app.event//EN
X-WR-TIMEZONE:Europe/Berlin
BEGIN:VEVENT
SUMMARY:Introduction to Design Theory
DTSTART;TZID=Europe/Berlin;VALUE=DATE-TIME:20250201T000000
DTSTAMP;VALUE=DATE-TIME:20260423T100656Z
UID:fb22848a81874ff38aa1da60ac2fb9dd@plone5.unife.it:8109
CATEGORIES:Matematica
CREATED;VALUE=DATE-TIME:20250128T091254Z
DESCRIPTION:7 CFU
LAST-MODIFIED;VALUE=DATE-TIME:20250131T110137Z
URL:https://iuss.unife.it/it/eventi-e-attivita/disciplinari/attivita/intro
 duction-to-design-theory
END:VEVENT
BEGIN:VTIMEZONE
TZID:Europe/Berlin
X-LIC-LOCATION:Europe/Berlin
BEGIN:STANDARD
DTSTART;VALUE=DATE-TIME:20241027T020000
TZNAME:CET
TZOFFSETFROM:+0200
TZOFFSETTO:+0100
END:STANDARD
END:VTIMEZONE
END:VCALENDAR
