BEGIN:VCALENDAR
VERSION:2.0
PRODID:-//Plone.org//NONSGML plone.app.event//EN
X-WR-TIMEZONE:Europe/Berlin
BEGIN:VEVENT
SUMMARY:Design and synthesis of precisely defined macromolecules via atom 
 transfer radical polymerization for pharmaceutical applications
DTSTART;TZID=Europe/Berlin;VALUE=DATE-TIME:20250311T103000
DTSTAMP;VALUE=DATE-TIME:20260423T100656Z
UID:e26537da94764e7f8c7f2efc72ac4a7b@plone5.unife.it:8109
CATEGORIES:Scienze Chimiche
CREATED;VALUE=DATE-TIME:20250129T113610Z
LAST-MODIFIED;VALUE=DATE-TIME:20250129T113720Z
URL:https://iuss.unife.it/it/eventi-e-attivita/disciplinari/attivita/desig
 n-and-synthesis-of-precisely-defined-macromolecules-via-atom-transfer-radi
 cal-polymerization-for-pharmaceutical-applications
END:VEVENT
BEGIN:VTIMEZONE
TZID:Europe/Berlin
X-LIC-LOCATION:Europe/Berlin
BEGIN:STANDARD
DTSTART;VALUE=DATE-TIME:20241027T020000
TZNAME:CET
TZOFFSETFROM:+0200
TZOFFSETTO:+0100
END:STANDARD
END:VTIMEZONE
END:VCALENDAR
