BEGIN:VCALENDAR
VERSION:2.0
PRODID:-//Plone.org//NONSGML plone.app.event//EN
X-WR-TIMEZONE:Europe/Berlin
BEGIN:VEVENT
SUMMARY:“Novel strategies in organic synthesis”
DTSTART;TZID=Europe/Berlin;VALUE=DATE-TIME:20250304T140000
DTSTAMP;VALUE=DATE-TIME:20260423T100656Z
UID:8dbf4c5ae6254e588e84e6ac574afd90@plone5.unife.it:8109
CATEGORIES:Scienze Chimiche
CREATED;VALUE=DATE-TIME:20250129T112904Z
LAST-MODIFIED;VALUE=DATE-TIME:20250129T112929Z
URL:https://iuss.unife.it/it/eventi-e-attivita/disciplinari/attivita/201cn
 ovel-strategies-in-organic-synthesis201d-1
END:VEVENT
BEGIN:VTIMEZONE
TZID:Europe/Berlin
X-LIC-LOCATION:Europe/Berlin
BEGIN:STANDARD
DTSTART;VALUE=DATE-TIME:20241027T020000
TZNAME:CET
TZOFFSETFROM:+0200
TZOFFSETTO:+0100
END:STANDARD
END:VTIMEZONE
END:VCALENDAR
